BEGIN:VCALENDAR
VERSION:2.0
PRODID:-//Squarespace Inc/Squarespace 6//v6//EN
BEGIN:VEVENT
UID:5c5fdd9e9140b743f6409e85@squarespace.com
DTSTAMP:20190210T111441Z
DTSTART:20190504T013000Z
DTEND:20190505T020000Z
SUMMARY:MegaPhotography Weekend #6
END:VEVENT
END:VCALENDAR
