BEGIN:VCALENDAR
VERSION:2.0
PRODID:-//Squarespace Inc/Squarespace 6//v6//EN
BEGIN:VEVENT
UID:5c5123494ae23755fa8f7597@squarespace.com
DTSTAMP:20190130T074654Z
DTSTART:20190223T223000Z
DTEND:20190224T073000Z
SUMMARY:Wilsons Prom Photography Day Cruise &amp\; Photography Tour
END:VEVENT
END:VCALENDAR
