BEGIN:VCALENDAR
VERSION:2.0
PRODID:-//Squarespace Inc/Squarespace 6//v6//EN
BEGIN:VEVENT
UID:5c5019836d2a73a6c8ace703@squarespace.com
DTSTAMP:20190130T094203Z
DTSTART:20190202T080000Z
DTEND:20190202T120000Z
SUMMARY:Catching the Wave - Slow Exposure/Astro Workshop - $110
GEO:-38.533866;145.388517
LOCATION:Cadillac Canyon\, 145 Potters Hill Road\, San Remo\, VIC\, 3925\, 
 Australia
END:VEVENT
END:VCALENDAR
