BEGIN:VCALENDAR
VERSION:2.0
PRODID:-//Squarespace Inc/Squarespace 6//v6//EN
BEGIN:VEVENT
UID:5c517419bba223702514251d@squarespace.com
DTSTAMP:20190130T095740Z
DTSTART:20190209T070000Z
DTEND:20190209T100000Z
SUMMARY:Adventure Based BASIC Camera Workshop - $95
GEO:-38.542961;145.340222
LOCATION:Woolamai Beach\, 288 Woolamai Beach Rd\, Cape Woolamai\, VIC\, 392
 5\, Australia
END:VEVENT
END:VCALENDAR
